BEGIN:VCALENDAR
VERSION:2.0
PRODID:-//Hybrid Bikes - ECPv5.9.2//NONSGML v1.0//EN
CALSCALE:GREGORIAN
METHOD:PUBLISH
X-WR-CALNAME:Hybrid Bikes
X-ORIGINAL-URL:https://hybrid-mtb.it
X-WR-CALDESC:Eventi per Hybrid Bikes
BEGIN:VTIMEZONE
TZID:Europe/Paris
BEGIN:DAYLIGHT
TZOFFSETFROM:+0100
TZOFFSETTO:+0200
TZNAME:CEST
DTSTART:20230326T010000
END:DAYLIGHT
BEGIN:STANDARD
TZOFFSETFROM:+0200
TZOFFSETTO:+0100
TZNAME:CET
DTSTART:20231029T010000
END:STANDARD
END:VTIMEZONE
BEGIN:VEVENT
DTSTART;TZID=Europe/Paris:20230318T103000
DTEND;TZID=Europe/Paris:20230318T163000
DTSTAMP:20260422T114711
CREATED:20230316T120911Z
LAST-MODIFIED:20230316T120911Z
UID:14500-1679135400-1679157000@hybrid-mtb.it
SUMMARY:Le Gole del Farfa
DESCRIPTION:32km con circa 1250 dislivello in Sabina\, partendo dalla Abbazia di Farfa per raggiungere le Gole che  attraverseremo su un antico ponte\n\n\n\nE﻿scursione abbastanza impegnativa seppure non di alta montagna\, con un dislivello significativo (sebbene parte della salita sarà su asfalto\, più facile e con minore consumo di batteria) e con alcuni tratti tecnici tra cui il piacevole Trail Tabacchino. \nD﻿alla bella Abbazia di Farfa verso il borgo di Mompeo per poi scendere nelle Gole del Farfa che attraverseremo su un antico ponte. Proseguendo per i due paesi di Castelnuovo di Farfia e Toffia risaliamo poi  verso Monte degli Elci con una salita a tratti impegnativa (4\,5km di salita con 370m dislivello) per prendere il divertente Trail Tabacchino che ci porterà a Fara in Sabina da cui rientremo in qualche altro km di sentieri alle auto. \nPer valutare la propria capacità di affrontare il percorso si consiglia la visione  dell’escursione fatta nel 2021 nel video del nostro  Giovanni. \nPossibilità di noleggio contattando Hybrid Bikes \n\n\n\nNOVITÀ STAGIONE 2022/2023👇🏼\nDA LEGGERE\nPur volendo mantenere lo spirito di Hybrid Team per tutte le nostre escursioni\, aperte a tutti e con responsabilità condivisa tra tutti i partecipanti da questa stagione per evitare situazioni difficili e/o potenzialmente pericolose per chi rischia di sopravvalutare le proprie capacità\, la partecipazione con bici propria alle escursioni più impegnative sarà subordinata all’avere partecipato a precedenti escursioni più facili o avere completato uno dei cicli di incontri che organizzeremo a Villa Ada per conoscerci. \nPur volendo mantenere le nostre escursioni gratuite in quanto si pedala insieme\, senza una guida e prestandosi reciprocamente aiuto in caso di bisogno\, in fase di prenotazione vi sarà richiesta una contribuzione libera per  il tempo e le risorse che occorrono a organizzare e gestire le escursioni di gruppo anche attraverso le piattaforme di prenotazione. Quanto raccolto potrà essere utilizzato\, ad esempio\, per acquisto di attrezzatura di ricambio da portare durante le escursioni. \n \n\n\n\nTERMINI DI PARTECIPAZIONE\nEscursione senza accompagnamento\, aperta a tutti dove ciascuno si assume la propria responsabilità lungo il percorso per infortuni e danni a se stesso o ad altri. \nCiascun partecipante deve essere in grado di comprendere le proprie capacità in relazione alle difficoltà del percorso e di assicurarsi di rimanere in contatto con tutto il gruppo. \nE’ una escursione di gruppo in cui ciascuno contribuisce\, prestando attenzione agli altri e a se stesso. Tutti i partecipanti potranno scaricare la traccia del percorso. \nPossibilità di noleggio contattando Hybrid Bikes \nLUOGO E ORARIO DELL’APPUNTAMENTO SARANNO COMUNICATI NEI PROSSIMI GIORNI PER EMAIL AI PARTECIPANTI REGISTRATI
URL:https://hybrid-mtb.it/event/le-gole-del-farfa/
LOCATION:Hybrid Bikes\, Via Cattaro 28\, 00198 Roma\, Roma\, 00198\, IT
CATEGORIES:BC - Escursione Impegnativa
ATTACH;FMTTYPE=image/jpeg:https://hybrid-mtb.it/wp-content/uploads/2023/03/14500_image.jpg
END:VEVENT
END:VCALENDAR