BEGIN:VCALENDAR
VERSION:2.0
PRODID:-//Hybrid Bikes - ECPv5.9.2//NONSGML v1.0//EN
CALSCALE:GREGORIAN
METHOD:PUBLISH
X-WR-CALNAME:Hybrid Bikes
X-ORIGINAL-URL:https://hybrid-mtb.it
X-WR-CALDESC:Eventi per Hybrid Bikes
BEGIN:VTIMEZONE
TZID:Europe/Paris
BEGIN:DAYLIGHT
TZOFFSETFROM:+0100
TZOFFSETTO:+0200
TZNAME:CEST
DTSTART:20190331T010000
END:DAYLIGHT
BEGIN:STANDARD
TZOFFSETFROM:+0200
TZOFFSETTO:+0100
TZNAME:CET
DTSTART:20191027T010000
END:STANDARD
END:VTIMEZONE
BEGIN:VEVENT
DTSTART;TZID=Europe/Paris:20191020T093000
DTEND;TZID=Europe/Paris:20191020T143000
DTSTAMP:20260422T115605
CREATED:20191009T163742Z
LAST-MODIFIED:20191009T164606Z
UID:13588-1571563800-1571581800@hybrid-mtb.it
SUMMARY:Intorno ai prati di Cottanello
DESCRIPTION:26 km\, 1000 mt dislivello: fantastica traccia all mountain per bikers tosti! Una MTB elettrica non vi toglierà certamente impegno e divertimento. Uno stimolo per tirare fuori la tecnica di cui siete capaci e un’occasione perfetta per provare una mountain bike a pedalata assistita \nLivello tecnico: BC+ (guida alla scala di difficoltà) \nSe non avete una e-bike ve la noleggiamo noi.\nUn giro che vi lascerà senza fiato e pienamente soddisfatti sempre nel folto di un bosco strepitoso. Decisamente BC con tratti OC.
URL:https://hybrid-mtb.it/event/cottanello-escursione-mtb-enduro/
LOCATION:Cottanello\, Cottanello\, 02040\, Italia
CATEGORIES:BC - Escursione Impegnativa
ATTACH;FMTTYPE=image/jpeg:https://hybrid-mtb.it/wp-content/uploads/2019/10/DSCF9231.jpg
END:VEVENT
END:VCALENDAR